BEGIN:VCALENDAR
VERSION:2.0
PRODID:Contra Costa Health Calendar Creator
METHOD:PUBLISH
BEGIN:VEVENT
DTSTAMP:20260324T104241
DTSTART:20260520T130000
DTEND:20260520T150000
SUMMARY:Flu Vaccination Clinic
DESCRIPTION:<p>Flu Vaccination Clinic</p><p>Free flu vaccines available. Everyone is welcome, regardless of immigration status or health insurance.</p><ul>    <li>For 6 months and older</li>    <li>No appointment needed. Walk-ins welcome</li>    <li>First come, first served</li></ul><p>Located in parking lot by Food Bank van.</p>
X-ALT-DESC;FMTTYPE=text/html:<p>Flu Vaccination Clinic</p><p>Free flu vaccines available. Everyone is welcome, regardless of immigration status or health insurance.</p><ul>    <li>For 6 months and older</li>    <li>No appointment needed. Walk-ins welcome</li>    <li>First come, first served</li></ul><p>Located in parking lot by Food Bank van.</p>
LOCATION:Concord Systron Clinic\, 2731 Systron Dr.\, 2731 Systron Dr. HERCULES\, 94518
CLASS:PUBLIC
END:VEVENT
END:VCALENDAR
