BEGIN:VCALENDAR
VERSION:2.0
PRODID:Contra Costa Health Calendar Creator
METHOD:PUBLISH
BEGIN:VEVENT
DTSTAMP:20260326T144719
DTSTART:20260416T180000
DTEND:20260416T193000
SUMMARY:Homelessness 101 (virtual)
DESCRIPTION:<p><a href="https://homebaseccc.zoom.us/meeting/register/lmuh0vYFScGYlEbFJMAkug#/registration" target="_blank" rel="noopener"><span class="styled-button">Register to Attend&nbsp;</span></a></p><p>Join us for an engaging and informative session designed for anyone curious about homelessness in Contra Costa. Whether you’re a concerned community member, have ideas for service programs, or are seeking services yourself, this presentation is for you!</p><h2>Highlights</h2><ul>    <li>Key data and trends on homelessness</li>    <li>Overview of available services</li>    <li>Community response initiatives</li>    <li>Opportunities for involvement</li>    <li>Interactive Q&amp;A session</li></ul><p ><strong>Presenter</strong>: Jaime Jenett, MPH, Community Engagement Specialist for Contra Costa Health, Housing and Homeless Services</p><h2>Contact</h2><p>Questions or want to have a Homelessness 101 session at your site? Email <a href="mailto:&#99;&#111;&#110;&#116;&#114;&#97;&#99;&#111;&#115;&#116;&#97;&#99;&#111;&#99;&#64;&#99;&#99;&#104;&#101;&#97;&#108;&#116;&#104;&#46;&#111;&#114;&#103;">contracostacoc@cchealth.org</a>.</p>
X-ALT-DESC;FMTTYPE=text/html:<p><a href="https://homebaseccc.zoom.us/meeting/register/lmuh0vYFScGYlEbFJMAkug#/registration" target="_blank" rel="noopener"><span class="styled-button">Register to Attend&nbsp;</span></a></p><p>Join us for an engaging and informative session designed for anyone curious about homelessness in Contra Costa. Whether you’re a concerned community member, have ideas for service programs, or are seeking services yourself, this presentation is for you!</p><h2>Highlights</h2><ul>    <li>Key data and trends on homelessness</li>    <li>Overview of available services</li>    <li>Community response initiatives</li>    <li>Opportunities for involvement</li>    <li>Interactive Q&amp;A session</li></ul><p ><strong>Presenter</strong>: Jaime Jenett, MPH, Community Engagement Specialist for Contra Costa Health, Housing and Homeless Services</p><h2>Contact</h2><p>Questions or want to have a Homelessness 101 session at your site? Email <a href="mailto:&#99;&#111;&#110;&#116;&#114;&#97;&#99;&#111;&#115;&#116;&#97;&#99;&#111;&#99;&#64;&#99;&#99;&#104;&#101;&#97;&#108;&#116;&#104;&#46;&#111;&#114;&#103;">contracostacoc@cchealth.org</a>.</p>
LOCATION:
CLASS:PUBLIC
END:VEVENT
END:VCALENDAR
